BEGIN:VCALENDAR
PRODID:-//AT Content Types//AT Event//EN
VERSION:1.0
BEGIN:VEVENT
DTSTART:20160506T113000Z
DTEND:20160506T210000Z
DCREATED:20160225T144530Z
UID:ATEvent-b131ca26d5f74001af0a02f24dddc935
SEQUENCE:0
LAST-MODIFIED:20161209T193655Z
SUMMARY:Educação Nutricional em Debate
DESCRIPTION:VI Seminário Integração-Serviço-Pesquisa e Políticas 
 Públicas: Educação Nutricional em Debate
LOCATION:Auditório da POLI-USP Engenharia de Petróleo (antiga Escola Estadual Dr Cesário Bastos) - Campus Baixada Santista\, Rua Julio Conceição\, s/n°\, Vila Mathias\, Santos\, SP
PRIORITY:3
TRANSP:0
END:VEVENT
END:VCALENDAR
