BEGIN:VCALENDAR
PRODID:-//AT Content Types//AT Event//EN
VERSION:2.0
METHOD:PUBLISH
BEGIN:VEVENT
DTSTAMP:20260422T154404Z
CREATED:20221122T171732Z
UID:ATEvent-10c3a64ca56041a0b922bbf4b77f6dcd
LAST-MODIFIED:20230327T175348Z
SUMMARY:Programa Eixos Temáticos da USP - Energia: Tecnologias de Fronteira nos Sistemas de Energia Elétrica
DTSTART:20221208T160000Z
DTEND:20221208T180000Z
LOCATION:On-line
CATEGORIES:Evento público, Evento online, Sustentabilidade, Energia, Eixos Temáticos USP
CONTACT:Larissa Cruz\, larissabcruz@usp.br
CLASS:PUBLIC
END:VEVENT
END:VCALENDAR
