BEGIN:VCALENDAR
PRODID:-//AT Content Types//AT Event//EN
VERSION:2.0
METHOD:PUBLISH
BEGIN:VEVENT
DTSTAMP:20260423T101926Z
CREATED:20240710T111347Z
UID:ATEvent-e68ba49c2a644af7afe94e4ca7240ab0
LAST-MODIFIED:20241210T160042Z
SUMMARY:Encontro Acadêmico "Impacto da Pós-Graduação Brasileira na Sociedade"
DTSTART:20240815T120000Z
DTEND:20240815T210000Z
LOCATION:IEA\, Sala Alfredo Bosi\, Rua da Praça do Relógio\, 109\, térreo\, Cidade Universitária\, São Paulo
CATEGORIES:Educação, Evento público, Brasil, Ensino Superior, Agenda 2030, Institucional, Sociedade
CONTACT:Sandra Sedini\, sedini@usp.br
CLASS:PUBLIC
END:VEVENT
END:VCALENDAR
