BEGIN:VCALENDAR
PRODID:-//AT Content Types//AT Event//EN
VERSION:2.0
METHOD:PUBLISH
BEGIN:VEVENT
DTSTAMP:20260423T141019Z
CREATED:20171129T140801Z
UID:ATEvent-1c36b2e3907945f68768d80dc9cddcdc
LAST-MODIFIED:20180222T150840Z
SUMMARY:Encontro com Gabriel Pérez-Barreiro
DTSTART:20171213T163000Z
DTEND:20171213T193000Z
LOCATION:Sala de Eventos do IEA\, Rua da Praça do Relógio\, 109\, Bloco K\, 5° andar\, Cidade Universitária\, São Paulo
CATEGORIES:Evento público, Grupo de Pesquisa Fórum Permanente: Sistema Cultural entre o Público e o Privado, Museus, Cultura, Arte
CONTACT:Sandra Sedini\, 11 3091-1678\, sedini@usp.br
URL:http://www.iea.usp.br/aovivo
CLASS:PUBLIC
END:VEVENT
END:VCALENDAR
