BEGIN:VCALENDAR
PRODID:-//AT Content Types//AT Event//EN
VERSION:1.0
BEGIN:VEVENT
DTSTART:20240220T120000Z
DTEND:20240222T203000Z
DCREATED:20240207T122614Z
UID:ATEvent-7bc2ac9e8761411a9622e0a0d17c3d0e
SEQUENCE:0
LAST-MODIFIED:20250122T181448Z
SUMMARY:Research Meeting of the Scientific Education in the Risk Society Project
LOCATION:Vide Programação
PRIORITY:3
TRANSP:0
END:VEVENT
END:VCALENDAR
