BEGIN:VCALENDAR
PRODID:-//AT Content Types//AT Event//EN
VERSION:2.0
METHOD:PUBLISH
BEGIN:VEVENT
DTSTAMP:20260425T144856Z
CREATED:20150908T133712Z
UID:ATEvent-a04cbc77bddb4e9f9fb9405eaa5dbcba
LAST-MODIFIED:20161007T205346Z
SUMMARY:Energia\, Sensoriamento e Meio Ambiente: a Eletroquímica na USP
DTSTART:20150921T120000Z
DTEND:20150921T210000Z
LOCATION:Sala de Eventos do IEA\, Rua da Praça do Relógio\, 109\, Bloco K\, 5º andar\, Butantã\, São Paulo
CATEGORIES:Tecnociência, Tecnologia, Evento público, Strategic Workshops, Biotecnologia
CONTACT:Sandra Sedini\, 11 3091-1678\, sedini@usp.br
URL:http://www.iea.usp.br/aovivo
CLASS:PUBLIC
END:VEVENT
END:VCALENDAR
