BEGIN:VCALENDAR
PRODID:-//AT Content Types//AT Event//EN
VERSION:1.0
BEGIN:VEVENT
DTSTART:20170922T170000Z
DTEND:20170922T200000Z
DCREATED:20170901T192126Z
UID:ATEvent-281740d7879c414f8d3da915d79b0fb5
SEQUENCE:0
LAST-MODIFIED:20180511T140621Z
SUMMARY:Engenharia da Complexidade em Edgar Morin
LOCATION:Sala de Eventos do IEA\, Rua Praça do Relógio\, 109\, bl. K\, 5º andar\, Cidade Universitária\, São Paulo
PRIORITY:3
TRANSP:0
END:VEVENT
END:VCALENDAR
