BEGIN:VCALENDAR
PRODID:-//AT Content Types//AT Event//EN
VERSION:1.0
BEGIN:VEVENT
DTSTART:20170410T120000Z
DTEND:20170412T200000Z
DCREATED:20170331T190230Z
UID:ATEvent-92a02a207c814438b16843cad7ce12e5
SEQUENCE:0
LAST-MODIFIED:20170404T204514Z
SUMMARY:Escola Doutoral "Crises: Uma Perspectiva Multidisciplinar"
LOCATION:Antiga Sala do Conselho Universitário\, Rua Praça do Relógio\, 109\, bl. K\, térreo\, Cidade Universitária\, São Paulo
PRIORITY:3
TRANSP:0
END:VEVENT
END:VCALENDAR
