BEGIN:VCALENDAR
PRODID:-//AT Content Types//AT Event//EN
VERSION:2.0
METHOD:PUBLISH
BEGIN:VEVENT
DTSTAMP:20260425T171718Z
CREATED:20160126T121842Z
UID:ATEvent-89e839a9ce0c43778dcf8f9ad7cdce4f
LAST-MODIFIED:20161212T154958Z
SUMMARY:A Legislação da Ética na Pesquisa em Seres Humanos: O Projeto de Lei N° 200
DTSTART:20160216T110000Z
DTEND:20160216T150000Z
LOCATION:Sala de Eventos do IEA\, Rua da Praça do Relógio,109\, bloco K\, 5º andar\, Butantã\, São Paulo
CATEGORIES:Educação, Direitos humanos, Evento público, Strategic Workshops
CONTACT:Sandra Sedini\, 11 3091-1678\, sedini@usp.br
URL:http://www.iea.usp.br/aovivo
CLASS:PUBLIC
END:VEVENT
END:VCALENDAR
