BEGIN:VCALENDAR
PRODID:-//AT Content Types//AT Event//EN
VERSION:2.0
METHOD:PUBLISH
BEGIN:VEVENT
DTSTAMP:20260422T063640Z
CREATED:20131004T225341Z
UID:ATEvent-16fd424f59fc4c9cbd9ed090637ae8e0
LAST-MODIFIED:20131016T211442Z
SUMMARY:Roda de Conversa com Alison Wylie
DTSTART:20131015T123000Z
DTEND:20131015T153000Z
LOCATION:Auditório 2 do IAG\, Rua do Matão\, 1226 - Cidade Universitária\, São Paulo\, SP
CATEGORIES:Evento público, Grupo de Pesquisa Filosofia, História e Sociologia da Ciência e da Tecnologia
CONTACT:Leila Costa\, (11) 3091 1681\, leila.costa@usp.br
CLASS:PUBLIC
END:VEVENT
END:VCALENDAR
