BEGIN:VCALENDAR
PRODID:-//AT Content Types//AT Event//EN
VERSION:2.0
METHOD:PUBLISH
BEGIN:VEVENT
DTSTAMP:20260422T010625Z
CREATED:20231109T155759Z
UID:ATEvent-9135c9b0f5e64a468ea00c1619e68d48
LAST-MODIFIED:20231109T161233Z
SUMMARY:Reparação?
DTSTART:20231122T190000Z
DTEND:20231206T190000Z
LOCATION:Espaço Cultural do IEA-RP
CATEGORIES:Exposição, Afro-Brasileiros, Arte, Polo Ribeirão Preto, Escravidão
CONTACT:IEA-RP\, iearp@usp.br
CLASS:PUBLIC
END:VEVENT
END:VCALENDAR
