BEGIN:VCALENDAR
PRODID:-//AT Content Types//AT Event//EN
VERSION:1.0
BEGIN:VEVENT
DTSTART:20240925T213000Z
DTEND:20241024T200000Z
DCREATED:20240919T145727Z
UID:ATEvent-7b02eeefe3ec4a11995bb0290c547594
SEQUENCE:0
LAST-MODIFIED:20240919T145736Z
SUMMARY:Retratos de uma Vida Só
LOCATION:Espaço Cultural do IEA-RP
PRIORITY:3
TRANSP:0
END:VEVENT
END:VCALENDAR
