BEGIN:VCALENDAR
PRODID:-//AT Content Types//AT Event//EN
VERSION:2.0
METHOD:PUBLISH
BEGIN:VEVENT
DTSTAMP:20260423T195232Z
CREATED:20200723T174848Z
UID:ATEvent-ebf3d275dab94f21b630f7200f010862
LAST-MODIFIED:20201123T191225Z
SUMMARY:Fome\, Fartura e Experiências Comunitárias na Sociedade Brasileira
DTSTART:20200914T173000Z
DTEND:20200914T203000Z
LOCATION:ON-LINE
CATEGORIES:Grupo de Pesquisa Tempo, Memória e Pertencimento, Evento público, Evento online, Fome
CONTACT:Cláudia R. Pereira\, 11 3091-1686\, clauregi@usp.br
URL:http://www.iea.usp.br/aovivo
CLASS:PUBLIC
END:VEVENT
END:VCALENDAR
