BEGIN:VCALENDAR
PRODID:-//AT Content Types//AT Event//EN
VERSION:2.0
METHOD:PUBLISH
BEGIN:VEVENT
DTSTAMP:20260425T144910Z
CREATED:20210601T120159Z
UID:ATEvent-3b17f16fb4924e0cb41fa60963643989
LAST-MODIFIED:20210623T164104Z
SUMMARY:Seminário Internacional Glocalização: Patrimônio Cultural em Perspectiva Global e Decolonial
DTSTART:20210623T130000Z
DTEND:20210624T160000Z
LOCATION:ON-LINE
CATEGORIES:Evento público, Evento online, Patrimônio Histórico e Cultural, Glocal, Grupo de Pesquisa Tempo, Memória e Pertencimento
CONTACT:Cláudia R. Pereira\, 11 3091-1686\, clauregi@usp.br
URL:http://www.iea.usp.br/aovivo
CLASS:PUBLIC
END:VEVENT
END:VCALENDAR
