BEGIN:VCALENDAR
PRODID:-//AT Content Types//AT Event//EN
VERSION:1.0
BEGIN:VEVENT
DTSTART:20211007T123000Z
DTEND:20211007T193000Z
DCREATED:20210824T131637Z
UID:ATEvent-6c6bb5324a0b4e4fa0c2de3b60ccc689
SEQUENCE:0
LAST-MODIFIED:20211008T180039Z
SUMMARY:Homenagem ao Prof. Francisco Corrêa Weffort
LOCATION:ON-LINE
PRIORITY:3
TRANSP:0
END:VEVENT
END:VCALENDAR
