BEGIN:VCALENDAR
PRODID:-//AT Content Types//AT Event//EN
VERSION:1.0
BEGIN:VEVENT
DTSTART:20230505T180000Z
DTEND:20230505T200000Z
DCREATED:20230317T125614Z
UID:ATEvent-6d5b9b0055bb4cc8b54029f07d0cac46
SEQUENCE:0
LAST-MODIFIED:20230519T152703Z
SUMMARY:As Humanidades ante o Antropoceno (Terceira Conversa)
LOCATION:On-line
PRIORITY:3
TRANSP:0
END:VEVENT
END:VCALENDAR
