BEGIN:VCALENDAR
PRODID:-//AT Content Types//AT Event//EN
VERSION:1.0
BEGIN:VEVENT
DTSTART:20221117T103000Z
DTEND:20221118T150000Z
DCREATED:20221107T132032Z
UID:ATEvent-1517b8b2a98d4edab699f69cea908df3
SEQUENCE:0
LAST-MODIFIED:20230825T152152Z
SUMMARY:I Encontro Anual de Pesquisadoras/es do Grupo de Pesquisa em Direitos Humanos\, Democracia e Memória do IEA
LOCATION:Sala Alfredo Bosi\, Rua da Praça do Relógio\, 109\, Cidade Universitária\, São Paulo
PRIORITY:3
TRANSP:0
END:VEVENT
END:VCALENDAR
