BEGIN:VCALENDAR
PRODID:-//AT Content Types//AT Event//EN
VERSION:1.0
BEGIN:VEVENT
DTSTART:20240326T170000Z
DTEND:20240326T190000Z
DCREATED:20240308T132532Z
UID:ATEvent-c6350ef5b5cf40b4992be35861fce980
SEQUENCE:0
LAST-MODIFIED:20250220T122848Z
SUMMARY:A Inteligência Artificial no Mundo do Trabalho: Impactos\, Inquietudes e Desafios (Parte 1)
LOCATION:Sala Alfredo Bosi\, Rua da Praça do Relógio\, 109\, térreo\, Cidade Universitária\, São Paulo
PRIORITY:3
TRANSP:0
END:VEVENT
END:VCALENDAR
