BEGIN:VCALENDAR
PRODID:-//AT Content Types//AT Event//EN
VERSION:2.0
METHOD:PUBLISH
BEGIN:VEVENT
DTSTAMP:20260423T202133Z
CREATED:20231207T162403Z
UID:ATEvent-f33354f5d7814002b5a2ae86d0e126ae
LAST-MODIFIED:20231211T163630Z
SUMMARY:II Encontro Anual de Pesquisadoras/es do Grupo de Pesquisa em Direitos Humanos\, Democracia e Memória do IEA
DTSTART:20231218T103000Z
DTEND:20231219T203000Z
LOCATION:Sala Alfredo Bosi\, Rua da Praça do Relógio\, 109\, Cidade Universitária\, São Paulo
CATEGORIES:Sociedade, Direitos humanos, Pesquisadores, Políticas Públicas, Democracia, Grupo de Pesquisa Direitos Humanos, Democracia e Memória, Evento interno, Conhecimento
CLASS:PUBLIC
END:VEVENT
END:VCALENDAR
