BEGIN:VCALENDAR
PRODID:-//AT Content Types//AT Event//EN
VERSION:1.0
BEGIN:VEVENT
DTSTART:20241212T103000Z
DTEND:20241213T203000Z
DCREATED:20240823T161128Z
UID:ATEvent-b995fb5f341841799fb84e5746483064
SEQUENCE:0
LAST-MODIFIED:20241218T093931Z
SUMMARY:III Encontro Anual de Pesquisadoras/es do Grupo de Pesquisa em Direitos Humanos\, Democracia e Memória do IEA
LOCATION:Sala Alfredo Bosi\, Rua da Praça do Relógio\, 109\, Cidade Universitária\, São Paulo
PRIORITY:3
TRANSP:0
END:VEVENT
END:VCALENDAR
