BEGIN:VCALENDAR
PRODID:-//AT Content Types//AT Event//EN
VERSION:1.0
BEGIN:VEVENT
DTSTART:20210503T220000Z
DTEND:20210510T190000Z
DCREATED:20210423T234427Z
UID:ATEvent-af997c74a38f46568ebdba294e79839b
SEQUENCE:0
LAST-MODIFIED:20210423T234926Z
SUMMARY:III Jornada Vida e Carreira
LOCATION:Canal do IEA-RP no YouTube
PRIORITY:3
TRANSP:0
END:VEVENT
END:VCALENDAR
