BEGIN:VCALENDAR
PRODID:-//AT Content Types//AT Event//EN
VERSION:2.0
METHOD:PUBLISH
BEGIN:VEVENT
DTSTAMP:20260420T121650Z
CREATED:20231003T185037Z
UID:ATEvent-937621a5dd3141e69d75bfed96ae5953
LAST-MODIFIED:20231221T172706Z
SUMMARY:Impacto da Diversidade Genética na Saúde dos Brasileiros
DTSTART:20231010T180000Z
DTEND:20231010T200000Z
LOCATION:On-line
CATEGORIES:Evento público, Evento online, Diversidade, Genética, Sociedade, Cátedra Otavio Frias Filho, Saúde
CONTACT:Sandra Sedini\, sedini@usp.br
CLASS:PUBLIC
END:VEVENT
END:VCALENDAR
