BEGIN:VCALENDAR
PRODID:-//AT Content Types//AT Event//EN
VERSION:2.0
METHOD:PUBLISH
BEGIN:VEVENT
DTSTAMP:20260424T073206Z
CREATED:20211111T114248Z
UID:ATEvent-57e69b329e7e48bdad58880fe7e25274
LAST-MODIFIED:20211117T141742Z
SUMMARY:Ciclo de Debates: O Impacto da Pandemia da Covid-19 na Saúde Pública em São Paulo - Encontro II
DTSTART:20211111T210000Z
DTEND:20211111T230000Z
LOCATION:On-line
CATEGORIES:Evento público, Brasil, Covid-19, Vacinas, Saúde Pública, Saúde, Evento online
CONTACT:Larissa Cruz\, larissabcruz@usp.br
CLASS:PUBLIC
END:VEVENT
END:VCALENDAR
