BEGIN:VCALENDAR
PRODID:-//AT Content Types//AT Event//EN
VERSION:2.0
METHOD:PUBLISH
BEGIN:VEVENT
DTSTAMP:20260426T003647Z
CREATED:20210531T134928Z
UID:ATEvent-e8a1ee36c5ac41a0ab644411ef7e38b5
LAST-MODIFIED:20210623T120303Z
SUMMARY:A Inserção do Brasil no  Sistema Internacional -  Econômica\, Política e Climático-Ambiental
DTSTART:20210625T123000Z
DTEND:20210625T153000Z
LOCATION:ON-LINE
CATEGORIES:Pesquisadores Colaboradores, Evento público, Evento online, Economia, Globalização, Mudanças Climáticas, Crise Econômica, Ciência Política
CONTACT:Cláudia R. Pereira\, 11 3091-1686\, clauregi@usp.br
URL:http://www.iea.usp.br/aovivo
CLASS:PUBLIC
END:VEVENT
END:VCALENDAR
