BEGIN:VCALENDAR
PRODID:-//AT Content Types//AT Event//EN
VERSION:1.0
BEGIN:VEVENT
DTSTART:20190830T170000Z
DTEND:20190830T200000Z
DCREATED:20190701T210024Z
UID:ATEvent-f36b157529704ce4b7ddde5d182551ba
SEQUENCE:0
LAST-MODIFIED:20190923T162404Z
SUMMARY:Arte\, Música\, Física e Psicanálise
LOCATION:Sala do Conselho Universitário\, Rua da Reitoria\, 374\, Cidade Universitária\, São Paulo
PRIORITY:3
TRANSP:0
END:VEVENT
END:VCALENDAR
