BEGIN:VCALENDAR
PRODID:-//AT Content Types//AT Event//EN
VERSION:1.0
BEGIN:VEVENT
DTSTART:20230525T120000Z
DTEND:20230525T150000Z
DCREATED:20230428T140651Z
UID:ATEvent-9406dc08895d4fc0bb93341ec5a7241b
SEQUENCE:0
LAST-MODIFIED:20230525T111939Z
SUMMARY:Saúde Planetária Brasil (SPBr) – Novos Rumos
LOCATION:Sala Alfredo Bosi\, Rua Praça do Relógio\, 109\, Cidade Universitária\, São Paulo
PRIORITY:3
TRANSP:0
END:VEVENT
END:VCALENDAR
