BEGIN:VCALENDAR
PRODID:-//AT Content Types//AT Event//EN
VERSION:2.0
METHOD:PUBLISH
BEGIN:VEVENT
DTSTAMP:20260421T180157Z
CREATED:20230417T145720Z
UID:ATEvent-519f22f958454235a86d08ed365019ca
LAST-MODIFIED:20230426T122028Z
SUMMARY:Jovens\, agentes de segurança privada e contextos
DTSTART:20230426T163000Z
DTEND:20230426T183000Z
LOCATION:Canal do IEA-RP no YouTube e pela página do IEA-RP no Facebook
CATEGORIES:Criminologia, Evento público, Evento online, Grupos de Pesquisa, Polo Ribeirão Preto
CONTACT:IEA-RP\, iearp@usp.br
URL:https://www.youtube.com/watch?v=Ho2DrgwtCkQ
CLASS:PUBLIC
END:VEVENT
END:VCALENDAR
