BEGIN:VCALENDAR
PRODID:-//AT Content Types//AT Event//EN
VERSION:1.0
BEGIN:VEVENT
DTSTART:20200703T133000Z
DTEND:20200703T150000Z
DCREATED:20200624T124619Z
UID:ATEvent-35d0557baad141748ee0e533083fa474
SEQUENCE:0
LAST-MODIFIED:20200811T132242Z
SUMMARY:Lançamento "Cadernos de Direito e Inovação" - Decreto Federal de Inovação: Novas Oportunidades
LOCATION:On-line
PRIORITY:3
TRANSP:0
END:VEVENT
END:VCALENDAR
