BEGIN:VCALENDAR
PRODID:-//AT Content Types//AT Event//EN
VERSION:2.0
METHOD:PUBLISH
BEGIN:VEVENT
DTSTAMP:20260424T190549Z
CREATED:20231211T123230Z
UID:ATEvent-2450303355384430bc9d7ab5ab9b56e9
LAST-MODIFIED:20241008T180718Z
SUMMARY:Lançamento do Livro “Do Amargo se fez Doce”
DTSTART:20240809T170000Z
DTEND:20240809T200000Z
LOCATION:ON-LINE
CATEGORIES:Grupo de Pesquisa Tempo, Memória e Pertencimento, Evento público, Evento online
CONTACT:Cláudia R. Pereira\, 11 3091-1686\, clauregi@usp.br
URL:http://www.iea.usp.br/aovivo
CLASS:PUBLIC
END:VEVENT
END:VCALENDAR
