BEGIN:VCALENDAR
PRODID:-//AT Content Types//AT Event//EN
VERSION:1.0
BEGIN:VEVENT
DTSTART:20170807T120000Z
DTEND:20170807T150000Z
DCREATED:20170710T191110Z
UID:ATEvent-a66c2f0174ee43fd9df23334d0d291cb
SEQUENCE:0
LAST-MODIFIED:20170915T173749Z
SUMMARY:Um Ano Depois: O que Restou dos Jogos Olímpicos do Rio de Janeiro
LOCATION:Antiga Sala do Conselho Universitário da USP\, Rua da Praça do Relógio\, 109\, térreo\, Butantã\, São Paulo
PRIORITY:3
TRANSP:0
END:VEVENT
END:VCALENDAR
