BEGIN:VCALENDAR
PRODID:-//AT Content Types//AT Event//EN
VERSION:1.0
BEGIN:VEVENT
DTSTART:20211014T140000Z
DTEND:20211016T163000Z
DCREATED:20210908T140340Z
UID:ATEvent-26d337e723ae468b971f0c495b9e603e
SEQUENCE:0
LAST-MODIFIED:20211022T122348Z
SUMMARY:Loreto in the Americas
LOCATION:ON-LINE
PRIORITY:3
TRANSP:0
END:VEVENT
END:VCALENDAR
