BEGIN:VCALENDAR
PRODID:-//AT Content Types//AT Event//EN
VERSION:1.0
BEGIN:VEVENT
DTSTART:20191031T170000Z
DTEND:20191031T200000Z
DCREATED:20191022T113806Z
UID:ATEvent-85cd5d0b621649eaa1af75eedc44fbdb
SEQUENCE:0
LAST-MODIFIED:20200311T130420Z
SUMMARY:Brutalismo Neoliberal (webconferência)
LOCATION:Sala Alfredo Bosi\, Rua Praça do Relógio\, 109\, Cidade Universitária\, São Paulo
PRIORITY:3
TRANSP:0
END:VEVENT
END:VCALENDAR
