BEGIN:VCALENDAR
PRODID:-//AT Content Types//AT Event//EN
VERSION:2.0
METHOD:PUBLISH
BEGIN:VEVENT
DTSTAMP:20260425T173620Z
CREATED:20191101T143454Z
UID:ATEvent-4d179aec40444cfa9d0bf11e59ee3db0
LAST-MODIFIED:20200311T130024Z
SUMMARY:"Gilets Jaunes"
DTSTART:20191108T160000Z
DTEND:20191108T190000Z
LOCATION:Sala de Reuniões do IEA
CATEGORIES:Evento, Neoliberalismo, Capitalismo, Grupo de Estudos Neoliberalismo, Subjetivação e Resistências, Evento interno
CONTACT:Claudia R. Pereira\, 11 3091-1686\, clauregi@usp.br
CLASS:PUBLIC
END:VEVENT
END:VCALENDAR
