BEGIN:VCALENDAR
PRODID:-//AT Content Types//AT Event//EN
VERSION:1.0
BEGIN:VEVENT
DTSTART:20190815T170000Z
DTEND:20190815T200000Z
DCREATED:20190807T173104Z
UID:ATEvent-1fde93fcf16b44b99ee90ebe5066f3be
SEQUENCE:0
LAST-MODIFIED:20191007T184049Z
SUMMARY:México Después del “Neoliberalismo”: Los Retos del Cambio
LOCATION:Sala Alfredo Bosi\, Rua Praça do Relógio\, 109\, Cidade Universitária\, São Paulo
PRIORITY:3
TRANSP:0
END:VEVENT
END:VCALENDAR
