BEGIN:VCALENDAR
PRODID:-//AT Content Types//AT Event//EN
VERSION:2.0
METHOD:PUBLISH
BEGIN:VEVENT
DTSTAMP:20260420T135831Z
CREATED:20180523T125454Z
UID:ATEvent-17b76f80dab04e14a7566ac4d41fa63c
LAST-MODIFIED:20180706T192724Z
SUMMARY:Migrações Internacionais e os Desafios da Integração Local no Estado Brasileiro
DTSTART:20180607T120000Z
DTEND:20180607T150000Z
LOCATION:Sala Alfredo Bosi\, Rua da Praça do Relógio\, 109\, térreo\, Cidade Universitária\, São Paulo
CATEGORIES:Evento público, Brasil, Migração, Cidadania, Direitos humanos, Humanidades, Grupo de Pesquisa Política Ambiental, Mundo, Desigualdade, Inclusão Social, Ser Humano
CONTACT:Sandra Sedini\, 11 3091-1678\, sediniW@usp.br
URL:http://www.iea.usp.br/aovivo
CLASS:PUBLIC
END:VEVENT
END:VCALENDAR
