BEGIN:VCALENDAR
PRODID:-//AT Content Types//AT Event//EN
VERSION:1.0
BEGIN:VEVENT
DTSTART:20260225T130000Z
DTEND:20260225T150000Z
DCREATED:20260203T123740Z
UID:ATEvent-1bfcca324e824541a5bb972bb60a87e5
SEQUENCE:0
LAST-MODIFIED:20260205T135432Z
SUMMARY:Human Evolution from the Perspective of the Balkans and the Eastern Mediterranean
LOCATION:IEA\, Sala Alfredo Bosi\, Rua da Praça do Relógio\, 109\, térreo\, Cidade Universitária\, São Paulo\, SP
PRIORITY:3
TRANSP:0
END:VEVENT
END:VCALENDAR
