BEGIN:VCALENDAR
PRODID:-//AT Content Types//AT Event//EN
VERSION:2.0
METHOD:PUBLISH
BEGIN:VEVENT
DTSTAMP:20260423T141019Z
CREATED:20241008T154929Z
UID:ATEvent-8eea90f7911a4dfabac1253452640d0c
LAST-MODIFIED:20241205T141652Z
SUMMARY:O Continente Involuntário: Emílio Villa e o Brasil
DTSTART:20241111T110000Z
DTEND:20241113T143000Z
LOCATION:Sala Alfredo Bosi\, Rua Praça do Relógio\, 109 e FAU/USP\, Rua do Lago\, 876\, Cidade Universitária\, São Paulo
CATEGORIES:Evento público, Evento online, História, Cultura, Grupo de Pesquisa Tempo, Memória e Pertencimento
CONTACT:Cláudia R. Pereira\, 11 3091-1686\, clauregi@usp.br
URL:http://www.iea.usp.br/aovivo
CLASS:PUBLIC
END:VEVENT
END:VCALENDAR
