BEGIN:VCALENDAR
PRODID:-//AT Content Types//AT Event//EN
VERSION:2.0
METHOD:PUBLISH
BEGIN:VEVENT
DTSTAMP:20260423T131551Z
CREATED:20240913T142542Z
UID:ATEvent-88a09ea7b0014229bd4efae381730c8e
LAST-MODIFIED:20241009T144515Z
SUMMARY:Oncologia de Precisão no Brasil: Uma Abordagem de Avaliação de Tecnologias em Saúde ao Longo do Ciclo de Vida
DTSTART:20241001T120000Z
DTEND:20241002T154500Z
LOCATION:Sala do Conselho Universitário\, Rua da Reitoria\, 374\, Cidade Universitária\, São Paulo
CATEGORIES:Evento público, Grupo de Pesquisa Equidade e Eficiência das Tecnologias de Oncologia de Precisão, Ciência, Pesquisa, medicina, CT&I
CONTACT:Sandra Sedini\, sedini@usp.br
CLASS:PUBLIC
END:VEVENT
END:VCALENDAR
