BEGIN:VCALENDAR
PRODID:-//AT Content Types//AT Event//EN
VERSION:1.0
BEGIN:VEVENT
DTSTART:20220518T200000Z
DTEND:20220518T213000Z
DCREATED:20220309T134711Z
UID:ATEvent-009fed5b7a27485b8808dc7e53009add
SEQUENCE:0
LAST-MODIFIED:20220621T141111Z
SUMMARY:Reconectar Educação e Trabalho
LOCATION:ON-LINE
PRIORITY:3
TRANSP:0
END:VEVENT
END:VCALENDAR
