BEGIN:VCALENDAR
PRODID:-//AT Content Types//AT Event//EN
VERSION:2.0
METHOD:PUBLISH
BEGIN:VEVENT
DTSTAMP:20260425T134710Z
CREATED:20250407T145928Z
UID:ATEvent-c66d4a2c463d4e31968d45db0080b53f
LAST-MODIFIED:20250710T200843Z
SUMMARY:Políticas Institucionais de Pós-Graduação Voltadas ao Incremento da Educação Básica no Estado de São Paulo
DTSTART:20250415T120000Z
DTEND:20250415T200000Z
LOCATION:Sala do Conselho Universitário\, Rua da Reitoria 374 - Térreo - Cidade Universitária  São Paulo - SP
CATEGORIES:Evento público, Cátedra de Educação Básica, Cátedra Instituto Ayrton Senna de Inovação em Avaliações Educacionais, Ensino Básico, Cátedra Sérgio Henrique Ferreira, Pró-Reitoria de Pós-Graduação
CONTACT:Amanda Carvalho\, amanda.carvalho.matos@usp.br
CLASS:PUBLIC
END:VEVENT
END:VCALENDAR
