BEGIN:VCALENDAR
PRODID:-//AT Content Types//AT Event//EN
VERSION:1.0
BEGIN:VEVENT
DTSTART:20190328T123000Z
DTEND:20190328T150000Z
DCREATED:20190311T205946Z
UID:ATEvent-a5b60cbca0894c3d856004fac417b024
SEQUENCE:0
LAST-MODIFIED:20190404T204624Z
SUMMARY:Posse de Helena Nader e Paulo Herkenhoff - Cátedra Olavo Setubal de Arte\, Cultura e Ciência
LOCATION:Conselho Universitário da USP - Rua da Reitoria\, 374\, Butantã\, São Paulo\, SP
PRIORITY:3
TRANSP:0
END:VEVENT
END:VCALENDAR
