BEGIN:VCALENDAR
PRODID:-//AT Content Types//AT Event//EN
VERSION:1.0
BEGIN:VEVENT
DTSTART:20170317T130000Z
DTEND:20170317T150000Z
DCREATED:20170221T151032Z
UID:ATEvent-5deec709668442bfb7e06ea0fdaced93
SEQUENCE:0
LAST-MODIFIED:20190403T175110Z
SUMMARY:Posse Ricardo Ohtake - Cátedra Olavo Setubal de Arte Cultura e Ciência
LOCATION:Rua da Reitoria\, 374\, Butantã\, São Paulo\, SP
PRIORITY:3
TRANSP:0
END:VEVENT
END:VCALENDAR
