BEGIN:VCALENDAR
PRODID:-//AT Content Types//AT Event//EN
VERSION:2.0
METHOD:PUBLISH
BEGIN:VEVENT
DTSTAMP:20260424T054121Z
CREATED:20251113T131104Z
UID:ATEvent-17640fd30b1147ffba0fd302bd396863
LAST-MODIFIED:20260120T175300Z
SUMMARY:Pré-lançamento do Podcast do Observatório Brasileiro de Inteligência Artificial
DTSTART:20251210T110000Z
DTEND:20251210T150000Z
LOCATION:Sala Alfredo Bosi\, Rua Praça do Relógio\, 109\, Cidade Universitária\, São Paulo
CATEGORIES:Inteligência Artificial, Cátedra Oscar Sala, Evento público
CONTACT:Cláudia R. Pereira\, 11 3091-1686\, clauregi@usp.br
CLASS:PUBLIC
END:VEVENT
END:VCALENDAR
