BEGIN:VCALENDAR
PRODID:-//AT Content Types//AT Event//EN
VERSION:2.0
METHOD:PUBLISH
BEGIN:VEVENT
DTSTAMP:20260420T171000Z
CREATED:20211103T172439Z
UID:ATEvent-c0ea90aaab1b42c2b1d749f07167c648
LAST-MODIFIED:20211117T170033Z
SUMMARY:Marco Legal da Inteligência Artificial - Conversações
DTSTART:20211112T170000Z
DTEND:20211112T190000Z
LOCATION:ON-LINE
CATEGORIES:Inteligência Artificial, Cátedra Oscar Sala, Evento público, Evento online
CONTACT:Cláudia R. Pereira\, 11 3091-1666\, clauregi@usp.br
URL:http://www.iea.usp.br/aovivo
CLASS:PUBLIC
END:VEVENT
END:VCALENDAR
