BEGIN:VCALENDAR
PRODID:-//AT Content Types//AT Event//EN
VERSION:2.0
METHOD:PUBLISH
BEGIN:VEVENT
DTSTAMP:20260420T113533Z
CREATED:20190327T185945Z
UID:ATEvent-3488264198934fd9972440e65aabf5a1
LAST-MODIFIED:20190327T190023Z
SUMMARY:Pseudociências e a responsabilidade dos cientistas
DTSTART:20190411T173000Z
DTEND:20190411T200000Z
LOCATION:Espaço de Eventos do IEA-RP
CATEGORIES:Ciência, Evento público, Pseudociências, Polo Ribeirão Preto
CONTACT:João Henrique\, (16) 33150368\, iearp@usp.br
CLASS:PUBLIC
END:VEVENT
END:VCALENDAR
