BEGIN:VCALENDAR
PRODID:-//AT Content Types//AT Event//EN
VERSION:2.0
METHOD:PUBLISH
BEGIN:VEVENT
DTSTAMP:20260419T160839Z
CREATED:20200203T124417Z
UID:ATEvent-0889b62890f84b659a99742e6a269862
LAST-MODIFIED:20200203T124433Z
SUMMARY:Qualidade da Democracia: Conceito e Aplicação
DTSTART:20121029T120000Z
DTEND:20121029T150000Z
LOCATION:Sala de Eventos do IEA\, Rua Praça do Relógio\, 109\, bloco K\, 5º andar\, Cidade Universitária\, São Paulo
CATEGORIES:Evento público, NUPPs, Democracia
CLASS:PUBLIC
END:VEVENT
END:VCALENDAR
