BEGIN:VCALENDAR
PRODID:-//AT Content Types//AT Event//EN
VERSION:1.0
BEGIN:VEVENT
DTSTART:20230413T140000Z
DTEND:20230413T160000Z
DCREATED:20230322T113424Z
UID:ATEvent-fc285394a0154a40a2bdcb0f2a920c54
SEQUENCE:0
LAST-MODIFIED:20230526T180958Z
SUMMARY:Quem Inventou o Wireless?
LOCATION:ON-LINE
PRIORITY:3
TRANSP:0
END:VEVENT
END:VCALENDAR
