BEGIN:VCALENDAR
PRODID:-//AT Content Types//AT Event//EN
VERSION:1.0
BEGIN:VEVENT
DTSTART:20210322T173000Z
DTEND:20210322T193000Z
DCREATED:20210126T112044Z
UID:ATEvent-2e3b9e5159e447a3a81d05b025fc1d27
SEQUENCE:0
LAST-MODIFIED:20210415T191316Z
SUMMARY:Reconstruindo a História das Missões Jesuiticas nos Territórios Guarani: um Relato Autobiográfico
LOCATION:ON-LINE
PRIORITY:3
TRANSP:0
END:VEVENT
END:VCALENDAR
