BEGIN:VCALENDAR
PRODID:-//AT Content Types//AT Event//EN
VERSION:2.0
METHOD:PUBLISH
BEGIN:VEVENT
DTSTAMP:20260422T071215Z
CREATED:20180522T111721Z
UID:ATEvent-55a94769fae24d8a98f3eea3b2d2c747
LAST-MODIFIED:20180821T195649Z
SUMMARY:Recursos Hídricos: do Oriente Médio ao Brasil
DTSTART:20180803T140000Z
DTEND:20180803T160000Z
LOCATION:Sala Alfredo Bosi\, Rua Praça do Relógio\, 109\, Cidade Universitária\, São Paulo
CATEGORIES:Evento público, Oriente Médio, Brasil, Grupo de Pesquisa Khronos: História da Ciência, Epistemologia e Medicina
CONTACT:Cláudia R. Pereira\, 11 3091-1686\, clauregi@usp.br
URL:http://www.iea.usp.br/aovivo
CLASS:PUBLIC
END:VEVENT
END:VCALENDAR
