BEGIN:VCALENDAR
PRODID:-//AT Content Types//AT Event//EN
VERSION:2.0
METHOD:PUBLISH
BEGIN:VEVENT
DTSTAMP:20260419T171224Z
CREATED:20210202T103621Z
UID:ATEvent-675be09bc3d74817bf3bc2c7054b62e5
LAST-MODIFIED:20210415T191938Z
SUMMARY:Reduções Jesuíticas nos Territórios Guaranis: uma Viagem Através dos Vestígios da História
DTSTART:20210310T173000Z
DTEND:20210310T193000Z
LOCATION:ON-LINE
CATEGORIES:Evento público, Evento online, Indígenas, História, Grupo de Pesquisa Tempo, Memória e Pertencimento
CONTACT:Cláudia R. Pereira\, 11 3091-1686\, clauregi@usp.br
URL:http://www.iea.usp.br/aovivo
CLASS:PUBLIC
END:VEVENT
END:VCALENDAR
